BEGIN:VCALENDAR
VERSION:2.0
PRODID:-//Intand Corporation//Tandem//EN
METHOD:PUBLISH
BEGIN:VEVENT
DTSTAMP:20260422T044133Z
DTSTART:20260417T233000Z
DTEND:20260418T003000Z
TRANSP:TRANSPARENT
PRIORITY:0
SUMMARY:Elementary Girls Volleyball Game vs iLead
LOCATION:Santa Clarita Christian School\, Gym
DESCRIPTION:Groups:\nAthletic Department\nElementary Girls Volleyball\n\nS
 chools:\nSanta Clarita Christian School\n\nLocations:\nSanta Clarita Chris
 tian School\nGym\n\n
URL;VALUE=URI:http://athletics.sccs.tandem.co/index.php?type=view&action=e
 vent&id=63963
CREATED:20260223T203720Z
LAST-MODIFIED:20260415T184533Z
UID:event_request-63963-sccs@intand.com
END:VEVENT
END:VCALENDAR
